BEGIN:VCALENDAR
VERSION:2.0
PRODID:-//ABD - Aktive Bürger Drosendorf - ECPv6.15.20//NONSGML v1.0//EN
CALSCALE:GREGORIAN
METHOD:PUBLISH
X-WR-CALNAME:ABD - Aktive Bürger Drosendorf
X-ORIGINAL-URL:https://abd-drosendorf.de
X-WR-CALDESC:Veranstaltungen für ABD - Aktive Bürger Drosendorf
REFRESH-INTERVAL;VALUE=DURATION:PT1H
X-Robots-Tag:noindex
X-PUBLISHED-TTL:PT1H
BEGIN:VTIMEZONE
TZID:Europe/Berlin
BEGIN:DAYLIGHT
TZOFFSETFROM:+0100
TZOFFSETTO:+0200
TZNAME:CEST
DTSTART:20250330T010000
END:DAYLIGHT
BEGIN:STANDARD
TZOFFSETFROM:+0200
TZOFFSETTO:+0100
TZNAME:CET
DTSTART:20251026T010000
END:STANDARD
BEGIN:DAYLIGHT
TZOFFSETFROM:+0100
TZOFFSETTO:+0200
TZNAME:CEST
DTSTART:20260329T010000
END:DAYLIGHT
BEGIN:STANDARD
TZOFFSETFROM:+0200
TZOFFSETTO:+0100
TZNAME:CET
DTSTART:20261025T010000
END:STANDARD
BEGIN:DAYLIGHT
TZOFFSETFROM:+0100
TZOFFSETTO:+0200
TZNAME:CEST
DTSTART:20270328T010000
END:DAYLIGHT
BEGIN:STANDARD
TZOFFSETFROM:+0200
TZOFFSETTO:+0100
TZNAME:CET
DTSTART:20271031T010000
END:STANDARD
END:VTIMEZONE
BEGIN:VEVENT
DTSTART;TZID=Europe/Berlin:20260307T100000
DTEND;TZID=Europe/Berlin:20260307T120000
DTSTAMP:20260423T040816
CREATED:20250326T201349Z
LAST-MODIFIED:20251115T084623Z
UID:241-1772877600-1772884800@abd-drosendorf.de
SUMMARY:Feuerlöscherprüfung 2026
DESCRIPTION:Am 07.03.2026 von 10:00 bis 12:00 veranstalten die Aktiven Bürger Drosendorf erneut eine Feuerlöscherprüfung. \nGegen eine geringe Prüfgebühr kann jeder seinen Feuerlöscher von einem Fachmann überprüfen lassen. \nDenken Sie daran\, dass nur ein funktionierender Feuerlöscher im Notfall wirkungsvoll helfen kann!
URL:https://abd-drosendorf.de/event/feuerloescherpruefung-2026/
END:VEVENT
BEGIN:VEVENT
DTSTART;TZID=Europe/Berlin:20260327T190000
DTEND;TZID=Europe/Berlin:20260327T220000
DTSTAMP:20260423T040816
CREATED:20260201T185525Z
LAST-MODIFIED:20260315T164256Z
UID:329-1774638000-1774648800@abd-drosendorf.de
SUMMARY:Jahresabschluss- und Helferessen 2025
DESCRIPTION:Aufgrund schwieriger Terminfindung zum Jahresende 2025 steht unser Jahresabschluss- und Helferessen 2025 bislang noch aus. Wir holen das am 27.03.2026 um 19:00 Uhr im Gasthaus Göller nach. \nAlle Mitglieder und zusätzlich alle Helferinnen und Helfer\, die die ABD im Laufe des vergangenen Jahres unterstützt haben\, insbesondere beim Dreschfest\, sind herzlich eingeladen.
URL:https://abd-drosendorf.de/event/jahresabschluss-und-helferessen-2025/
LOCATION:Brauerei Göller\, Drosendorf bei Memmelsdorf
END:VEVENT
END:VCALENDAR