BEGIN:VCALENDAR
VERSION:2.0
PRODID:-//ABD - Aktive Bürger Drosendorf - ECPv6.15.20//NONSGML v1.0//EN
CALSCALE:GREGORIAN
METHOD:PUBLISH
X-ORIGINAL-URL:https://abd-drosendorf.de
X-WR-CALDESC:Veranstaltungen für ABD - Aktive Bürger Drosendorf
REFRESH-INTERVAL;VALUE=DURATION:PT1H
X-Robots-Tag:noindex
X-PUBLISHED-TTL:PT1H
BEGIN:VTIMEZONE
TZID:Europe/Berlin
BEGIN:DAYLIGHT
TZOFFSETFROM:+0100
TZOFFSETTO:+0200
TZNAME:CEST
DTSTART:20250330T010000
END:DAYLIGHT
BEGIN:STANDARD
TZOFFSETFROM:+0200
TZOFFSETTO:+0100
TZNAME:CET
DTSTART:20251026T010000
END:STANDARD
BEGIN:DAYLIGHT
TZOFFSETFROM:+0100
TZOFFSETTO:+0200
TZNAME:CEST
DTSTART:20260329T010000
END:DAYLIGHT
BEGIN:STANDARD
TZOFFSETFROM:+0200
TZOFFSETTO:+0100
TZNAME:CET
DTSTART:20261025T010000
END:STANDARD
BEGIN:DAYLIGHT
TZOFFSETFROM:+0100
TZOFFSETTO:+0200
TZNAME:CEST
DTSTART:20270328T010000
END:DAYLIGHT
BEGIN:STANDARD
TZOFFSETFROM:+0200
TZOFFSETTO:+0100
TZNAME:CET
DTSTART:20271031T010000
END:STANDARD
END:VTIMEZONE
BEGIN:VEVENT
DTSTART;TZID=Europe/Berlin:20260205T190000
DTEND;TZID=Europe/Berlin:20260205T210000
DTSTAMP:20260423T053052
CREATED:20251221T125702Z
LAST-MODIFIED:20260131T132704Z
UID:280-1770318000-1770325200@abd-drosendorf.de
SUMMARY:Wahlversammlung 02/2026
DESCRIPTION:Am Donnerstag\, 05.02.2026\, findet im Gasthaus Göller um 19:00 Uhr eine Informationsveranstaltung der ABD zur Gemeinderats- und Bürgermeisterwahl statt. Interessierte Bürgerinnen und Bürger aus allen Gemeindeteilen sind herzlich eingeladen. \nWir informieren über unsere kommunalpolitischen Vorhaben und Ziele und die Kandidierenden der ABD sowie der Bürgermeisterkandidat von ABD\, CSU und BBL\, Jürgen Reinwald\, stellen sich vor und freuen sich auf Ihre Fragen und Anregungen.
URL:https://abd-drosendorf.de/event/wahlversammlung-02-2026/
LOCATION:Brauerei Göller\, Drosendorf bei Memmelsdorf
END:VEVENT
BEGIN:VEVENT
DTSTART;TZID=Europe/Berlin:20260228T100000
DTEND;TZID=Europe/Berlin:20260228T130000
DTSTAMP:20260423T053052
CREATED:20251221T125930Z
LAST-MODIFIED:20260113T071042Z
UID:282-1772272800-1772283600@abd-drosendorf.de
SUMMARY:Infostand Kommunalwahl 2026
DESCRIPTION:
URL:https://abd-drosendorf.de/event/infostand-kommunalwahl-2026/
LOCATION:Edeka Massak\, Memmelsdorf
END:VEVENT
END:VCALENDAR