BEGIN:VCALENDAR
VERSION:2.0
PRODID:-//ABD - Aktive Bürger Drosendorf - ECPv6.15.20//NONSGML v1.0//EN
CALSCALE:GREGORIAN
METHOD:PUBLISH
X-WR-CALNAME:ABD - Aktive Bürger Drosendorf
X-ORIGINAL-URL:https://abd-drosendorf.de
X-WR-CALDESC:Veranstaltungen für ABD - Aktive Bürger Drosendorf
REFRESH-INTERVAL;VALUE=DURATION:PT1H
X-Robots-Tag:noindex
X-PUBLISHED-TTL:PT1H
BEGIN:VTIMEZONE
TZID:Europe/Berlin
BEGIN:DAYLIGHT
TZOFFSETFROM:+0100
TZOFFSETTO:+0200
TZNAME:CEST
DTSTART:20240331T010000
END:DAYLIGHT
BEGIN:STANDARD
TZOFFSETFROM:+0200
TZOFFSETTO:+0100
TZNAME:CET
DTSTART:20241027T010000
END:STANDARD
BEGIN:DAYLIGHT
TZOFFSETFROM:+0100
TZOFFSETTO:+0200
TZNAME:CEST
DTSTART:20250330T010000
END:DAYLIGHT
BEGIN:STANDARD
TZOFFSETFROM:+0200
TZOFFSETTO:+0100
TZNAME:CET
DTSTART:20251026T010000
END:STANDARD
BEGIN:DAYLIGHT
TZOFFSETFROM:+0100
TZOFFSETTO:+0200
TZNAME:CEST
DTSTART:20260329T010000
END:DAYLIGHT
BEGIN:STANDARD
TZOFFSETFROM:+0200
TZOFFSETTO:+0100
TZNAME:CET
DTSTART:20261025T010000
END:STANDARD
END:VTIMEZONE
BEGIN:VEVENT
DTSTART;TZID=Europe/Berlin:20251113T190000
DTEND;TZID=Europe/Berlin:20251113T210000
DTSTAMP:20260423T102355
CREATED:20250326T201612Z
LAST-MODIFIED:20251019T100923Z
UID:243-1763060400-1763067600@abd-drosendorf.de
SUMMARY:Aufstellungsversammlung Kommunalwahl 2026
DESCRIPTION:
URL:https://abd-drosendorf.de/event/aufstellungsversammlung-kommunalwahl-2026/
LOCATION:Brauerei Göller\, Drosendorf bei Memmelsdorf
END:VEVENT
BEGIN:VEVENT
DTSTART;TZID=Europe/Berlin:20251130T103000
DTEND;TZID=Europe/Berlin:20251130T190000
DTSTAMP:20260423T102355
CREATED:20251116T092747Z
LAST-MODIFIED:20251116T092747Z
UID:271-1764498600-1764529200@abd-drosendorf.de
SUMMARY:Drosendorfer Adventsmarkt 2025
DESCRIPTION:Die Drosendorfer Ortsvereine\, verbunden in der ARGE Drosendorf\, laden ganz herzlich zum 1. Advent nach Drosendorf ein. Der Tag beginnt mit dem Gottesdienst um 10.30 Uhr. Im Anschluss wird unsere große Dorfkrippe geöffnet\, musikalisch umrahmt durch die Drosendorfer Blasmusik. \nIm Anschluss öffnet der Adventsmarkt\, der in diesem Jahr zum ersten Mal auf dem Festplatz stattfindet. Die Aussteller bieten Kunsthandwerk und Geschenkideen an. Dazu gibt es ein vielfältiges Speisenangebot von herzhaft bis süß. \nIn der Kirche ist eine Ausstellung von Hobbykrippenbauern zu bewundern. \nUm 14 Uhr ist in der Kirche das Adventliche Singen und Spielen der Kinder. \nUm 15:30 Uhr besucht der Nikolaus den Adventsmarkt. \nUm 17:00 Uhr laden wir zum Adventskonzert in der Kirche mit dem Chor Cantemus vom Gesangsverein Gundelsheim ein. \nDie Drosendorfer Ortsvereine laden Jung und Alt\, alle Bürgerinnen und Bürger unserer Großgemeinde ganz herzlich ein. Wir freuen uns auf Ihren Besuch und wünschen schon jetzt einen schönen Ersten Advent! \nAchtung!\nAm 29.11. und am 30.11. ist die Zufahrt und der Parkplatz am Sportheim gesperrt!! \nZur Information für die Helferinnen und Helfer:\nAufbau am Samstag ab 10.00 Uhr\, am Sonntag ab 9.00 Uhr.\nAbbau am Sonntag ab 20.00 Uhr.\nAufräumen am Montag ab 17.00 Uhr
URL:https://abd-drosendorf.de/event/drosendorfer-adventsmarkt-2025/
LOCATION:Festplatz\, Drosendorf bei Memmelsdorf
END:VEVENT
END:VCALENDAR