BEGIN:VCALENDAR
VERSION:2.0
PRODID:-//ABD - Aktive Bürger Drosendorf - ECPv6.15.20//NONSGML v1.0//EN
CALSCALE:GREGORIAN
METHOD:PUBLISH
X-WR-CALNAME:ABD - Aktive Bürger Drosendorf
X-ORIGINAL-URL:https://abd-drosendorf.de
X-WR-CALDESC:Veranstaltungen für ABD - Aktive Bürger Drosendorf
REFRESH-INTERVAL;VALUE=DURATION:PT1H
X-Robots-Tag:noindex
X-PUBLISHED-TTL:PT1H
BEGIN:VTIMEZONE
TZID:Europe/Berlin
BEGIN:DAYLIGHT
TZOFFSETFROM:+0100
TZOFFSETTO:+0200
TZNAME:CEST
DTSTART:20240331T010000
END:DAYLIGHT
BEGIN:STANDARD
TZOFFSETFROM:+0200
TZOFFSETTO:+0100
TZNAME:CET
DTSTART:20241027T010000
END:STANDARD
BEGIN:DAYLIGHT
TZOFFSETFROM:+0100
TZOFFSETTO:+0200
TZNAME:CEST
DTSTART:20250330T010000
END:DAYLIGHT
BEGIN:STANDARD
TZOFFSETFROM:+0200
TZOFFSETTO:+0100
TZNAME:CET
DTSTART:20251026T010000
END:STANDARD
BEGIN:DAYLIGHT
TZOFFSETFROM:+0100
TZOFFSETTO:+0200
TZNAME:CEST
DTSTART:20260329T010000
END:DAYLIGHT
BEGIN:STANDARD
TZOFFSETFROM:+0200
TZOFFSETTO:+0100
TZNAME:CET
DTSTART:20261025T010000
END:STANDARD
END:VTIMEZONE
BEGIN:VEVENT
DTSTART;TZID=Europe/Berlin:20251024T190000
DTEND;TZID=Europe/Berlin:20251024T210000
DTSTAMP:20260423T120202
CREATED:20250326T195858Z
LAST-MODIFIED:20250326T195858Z
UID:237-1761332400-1761339600@abd-drosendorf.de
SUMMARY:Mitgliederversammlung 10/2025: Vorbesprechung der Kandidatenliste
DESCRIPTION:
URL:https://abd-drosendorf.de/event/mitgliederversammlung-10-2025-vorbesprechung-der-kandidatenliste/
LOCATION:RSV Sportheim\, Drosendorf bei Memmelsdorf
END:VEVENT
END:VCALENDAR